BEGIN:VCALENDAR
VERSION:2.0
PRODID:-//Haus Sausage Co. - ECPv6.15.20//NONSGML v1.0//EN
CALSCALE:GREGORIAN
METHOD:PUBLISH
X-ORIGINAL-URL:https://haussausageco.com
X-WR-CALDESC:Events for Haus Sausage Co.
REFRESH-INTERVAL;VALUE=DURATION:PT1H
X-Robots-Tag:noindex
X-PUBLISHED-TTL:PT1H
BEGIN:VTIMEZONE
TZID:America/Vancouver
BEGIN:DAYLIGHT
TZOFFSETFROM:-0800
TZOFFSETTO:-0700
TZNAME:PDT
DTSTART:20240310T100000
END:DAYLIGHT
BEGIN:STANDARD
TZOFFSETFROM:-0700
TZOFFSETTO:-0800
TZNAME:PST
DTSTART:20241103T090000
END:STANDARD
BEGIN:DAYLIGHT
TZOFFSETFROM:-0800
TZOFFSETTO:-0700
TZNAME:PDT
DTSTART:20250309T100000
END:DAYLIGHT
BEGIN:STANDARD
TZOFFSETFROM:-0700
TZOFFSETTO:-0800
TZNAME:PST
DTSTART:20251102T090000
END:STANDARD
BEGIN:DAYLIGHT
TZOFFSETFROM:-0800
TZOFFSETTO:-0700
TZNAME:PDT
DTSTART:20260308T100000
END:DAYLIGHT
BEGIN:STANDARD
TZOFFSETFROM:-0700
TZOFFSETTO:-0800
TZNAME:PST
DTSTART:20261101T090000
END:STANDARD
END:VTIMEZONE
BEGIN:VEVENT
DTSTART;TZID=America/Vancouver:20251223T140000
DTEND;TZID=America/Vancouver:20251223T170000
DTSTAMP:20260423T102041
CREATED:20251126T005412Z
LAST-MODIFIED:20251126T005412Z
UID:2646-1766498400-1766509200@haussausageco.com
SUMMARY:Small Xmas Dinner 2025
DESCRIPTION:Greetings and salutations! We are excited to again offer  holiday meals this Christmas Season. This Dinner is designed to feed 2 people (if you need to feed more there is a larger dinner\, find that one on our events page under the 24th). The intent of this meal package is to be taken home and easily reheated while still making a delicious home style meal. \nPickup is on Tuesday December 23rd from 2-5pm at our kitchen(4-515 Dupplin Rd.) \nAll components of this meal were made and assembled by a small team with a big passion for good food. Below you will find the menu. Thank you and we hope you enjoy! \nFeel free to reach out with any questions you may have. Due to the nature of these meals we are not able to change any ingredients to accomodate allergies but are happy to field questions about them. Email us at haussausageco@gmail.com or give us a call. Tickets will be on sale until December 21st or until sold out. \n  \nBBQ Pork Ribs \nSmoked Maple Duck Sausage \nCreamy Polenta \nAlmond & Cranberry Stuffing \nFennel & Apple Slaw \nCountry Gravy \nBlackberry Cider Jelly \nGinger Cookies
URL:https://haussausageco.com/event/smallxmas25/
LOCATION:Haus Sausage Co.\, 4-515 Dupplin Rd.\, Victoria\, BC\, v8z1c2\, Canada
ORGANIZER;CN="Haus Sausage Co.":MAILTO:info@haussausageco.com
END:VEVENT
END:VCALENDAR