BEGIN:VCALENDAR
VERSION:2.0
PRODID:-//Haus Sausage Co. - ECPv6.15.20//NONSGML v1.0//EN
CALSCALE:GREGORIAN
METHOD:PUBLISH
X-ORIGINAL-URL:https://haussausageco.com
X-WR-CALDESC:Events for Haus Sausage Co.
REFRESH-INTERVAL;VALUE=DURATION:PT1H
X-Robots-Tag:noindex
X-PUBLISHED-TTL:PT1H
BEGIN:VTIMEZONE
TZID:America/Vancouver
BEGIN:DAYLIGHT
TZOFFSETFROM:-0800
TZOFFSETTO:-0700
TZNAME:PDT
DTSTART:20220313T100000
END:DAYLIGHT
BEGIN:STANDARD
TZOFFSETFROM:-0700
TZOFFSETTO:-0800
TZNAME:PST
DTSTART:20221106T090000
END:STANDARD
BEGIN:DAYLIGHT
TZOFFSETFROM:-0800
TZOFFSETTO:-0700
TZNAME:PDT
DTSTART:20230312T100000
END:DAYLIGHT
BEGIN:STANDARD
TZOFFSETFROM:-0700
TZOFFSETTO:-0800
TZNAME:PST
DTSTART:20231105T090000
END:STANDARD
BEGIN:DAYLIGHT
TZOFFSETFROM:-0800
TZOFFSETTO:-0700
TZNAME:PDT
DTSTART:20240310T100000
END:DAYLIGHT
BEGIN:STANDARD
TZOFFSETFROM:-0700
TZOFFSETTO:-0800
TZNAME:PST
DTSTART:20241103T090000
END:STANDARD
END:VTIMEZONE
BEGIN:VEVENT
DTSTART;TZID=America/Vancouver:20230409T130000
DTEND;TZID=America/Vancouver:20230409T160000
DTSTAMP:20260425T172448
CREATED:20230326T210324Z
LAST-MODIFIED:20230404T193755Z
UID:1176-1681045200-1681056000@haussausageco.com
SUMMARY:Haus Sunday Dinners: Easter
DESCRIPTION:Greetings and salutations! We have arrived at our next Sunday Dinner series\, and we are excited to get back into these. This to go meal is designed to be a solution to having a high quality dinner that is easy to reheat and serve\, save yourself some time\, save dishes\, enjoy the other stuff. Do note that the chicken is smoked on the day and comes hot from the smoker while the rest of the meal will be cold. The package should feed 2-3 and if you need to feed more people just add as many tickets as needed. The meal this year does not include our Smoked Ham\, but if you are needing this instead or as well\, you can find a separate preorder option on the events calendar\, while supplies last. Pickup will be on April 9th from 1pm-4pm at 515 Dupplin Rd. Victoria. \nTickets will be on sale until April 5th. \nAll components of this meal are made from scratch by small teams with a big passion for good food. Below you will find the menu and thanks for taking a look! \n  \nSmoked BBQ Half Chicken \nSmoked Andouille Sausage \nApple and Walnut Stuffing \nParsnip Purée \nCharred Broccoli & Pancetta Potatoes \nCountry Gravy \nCranberry & Sour Cherry Sauce \nEaster Themed Treats from Empire Donuts (2)
URL:https://haussausageco.com/event/easter2023/
LOCATION:Haus Sausage Co.\, 4-515 Dupplin Rd.\, Victoria\, BC\, v8z1c2\, Canada
ORGANIZER;CN="Haus Sausage Co.":MAILTO:info@haussausageco.com
END:VEVENT
END:VCALENDAR