BEGIN:VCALENDAR
VERSION:2.0
PRODID:-//Haus Sausage Co. - ECPv6.15.20//NONSGML v1.0//EN
CALSCALE:GREGORIAN
METHOD:PUBLISH
X-ORIGINAL-URL:https://haussausageco.com
X-WR-CALDESC:Events for Haus Sausage Co.
REFRESH-INTERVAL;VALUE=DURATION:PT1H
X-Robots-Tag:noindex
X-PUBLISHED-TTL:PT1H
BEGIN:VTIMEZONE
TZID:America/Vancouver
BEGIN:DAYLIGHT
TZOFFSETFROM:-0800
TZOFFSETTO:-0700
TZNAME:PDT
DTSTART:20240310T100000
END:DAYLIGHT
BEGIN:STANDARD
TZOFFSETFROM:-0700
TZOFFSETTO:-0800
TZNAME:PST
DTSTART:20241103T090000
END:STANDARD
BEGIN:DAYLIGHT
TZOFFSETFROM:-0800
TZOFFSETTO:-0700
TZNAME:PDT
DTSTART:20250309T100000
END:DAYLIGHT
BEGIN:STANDARD
TZOFFSETFROM:-0700
TZOFFSETTO:-0800
TZNAME:PST
DTSTART:20251102T090000
END:STANDARD
BEGIN:DAYLIGHT
TZOFFSETFROM:-0800
TZOFFSETTO:-0700
TZNAME:PDT
DTSTART:20260308T100000
END:DAYLIGHT
BEGIN:STANDARD
TZOFFSETFROM:-0700
TZOFFSETTO:-0800
TZNAME:PST
DTSTART:20261101T090000
END:STANDARD
END:VTIMEZONE
BEGIN:VEVENT
DTSTART;TZID=America/Vancouver:20250420T120000
DTEND;TZID=America/Vancouver:20250420T160000
DTSTAMP:20260424T010607
CREATED:20250402T040351Z
LAST-MODIFIED:20250402T194935Z
UID:2236-1745150400-1745164800@haussausageco.com
SUMMARY:Sunday Dinner: Easter
DESCRIPTION:Greetings and Salutations! We have once again circled the sun and arrived back at Easter\, we are excited to get back into our Sunday Dinner series starting here. This meal is designed to be taken home and will be easy to cook/reheat giving you more time to spend with friends and family and less time prepping in the kitchen. Below you will find this year’s menu and take note the two sizes\, one to accommodate larger gatherings along with a smaller package aimed to feed just two people. With the larger dinner\, the chicken will just need to be baked on a roasting tray at 375 for approximately 40 minutes\, all other components are ready to either just be plated or reheated. \n  \nFeeds 4-6 \nBrined Half BBQ Chicken (raw) \nSmoked Mini Sweetheart Ham (fully cooked) \n“Everything” Spiced Stuffing \nCarrot Slaw \nLemon and Herb Potatoes \nDemi Glace \nSweet Cider Jelly \nMaple Tarts \n  \nFeeds 2 \nDuck Confit (fully cooked) \n“Everything” Spiced Stuffing \nCarrot Slaw \nLemon and Herb Potatoes \nDemi Glace \nSweet Cider Jelly \nMaple Tarts \n 
URL:https://haussausageco.com/event/sunday-dinner-easter/
LOCATION:Haus Sausage Co.\, 4-515 Dupplin Rd.\, Victoria\, BC\, v8z1c2\, Canada
CATEGORIES:Sunday Dinner
ORGANIZER;CN="Haus Sausage Co.":MAILTO:info@haussausageco.com
END:VEVENT
END:VCALENDAR