BEGIN:VCALENDAR
VERSION:2.0
PRODID:-//Haus Sausage Co. - ECPv6.15.20//NONSGML v1.0//EN
CALSCALE:GREGORIAN
METHOD:PUBLISH
X-ORIGINAL-URL:https://haussausageco.com
X-WR-CALDESC:Events for Haus Sausage Co.
REFRESH-INTERVAL;VALUE=DURATION:PT1H
X-Robots-Tag:noindex
X-PUBLISHED-TTL:PT1H
BEGIN:VTIMEZONE
TZID:America/Vancouver
BEGIN:DAYLIGHT
TZOFFSETFROM:-0800
TZOFFSETTO:-0700
TZNAME:PDT
DTSTART:20230312T100000
END:DAYLIGHT
BEGIN:STANDARD
TZOFFSETFROM:-0700
TZOFFSETTO:-0800
TZNAME:PST
DTSTART:20231105T090000
END:STANDARD
BEGIN:DAYLIGHT
TZOFFSETFROM:-0800
TZOFFSETTO:-0700
TZNAME:PDT
DTSTART:20240310T100000
END:DAYLIGHT
BEGIN:STANDARD
TZOFFSETFROM:-0700
TZOFFSETTO:-0800
TZNAME:PST
DTSTART:20241103T090000
END:STANDARD
BEGIN:DAYLIGHT
TZOFFSETFROM:-0800
TZOFFSETTO:-0700
TZNAME:PDT
DTSTART:20250309T100000
END:DAYLIGHT
BEGIN:STANDARD
TZOFFSETFROM:-0700
TZOFFSETTO:-0800
TZNAME:PST
DTSTART:20251102T090000
END:STANDARD
END:VTIMEZONE
BEGIN:VEVENT
DTSTART;TZID=America/Vancouver:20241013T140000
DTEND;TZID=America/Vancouver:20241013T160000
DTSTAMP:20260424T111928
CREATED:20240918T035800Z
LAST-MODIFIED:20241012T225454Z
UID:1851-1728828000-1728835200@haussausageco.com
SUMMARY:Sunday Dinner: Thanksgiving 2024
DESCRIPTION:Greetings and salutations! Once again we are excited to offer Thanksgiving dinner for folks this year. Please note we have taken a slightly different approach with the meal size this year and are going to offer a couple different sizes to hopefully cover the gamut of gathering sizes and guests. Tickets will be available for 2 person dinners as well as 4 person packages\, simply add as many tickets as needed to reach your numbers. This Dinner was made with the intent to be taken home and easily reheated. The entirety of this meal is totally cooked and just needs some parts to be heated and plated. Pickup is on Sunday October 13th from 2pm-4pm at our kitchen(4-515 Dupplin Rd). \nFor anyone looking for a turkey roll\, they will be available in limited quantities and can take preorders by email or phone. \nAll components of this meal were made and assembled by a small team with a big passion for good food. Below you will find the menu. Thank you and we hope you enjoy! Feel free to reach out with any questions you may have. \n  \nDuck Confit \nHickory Smoked Ham \nPear and Almond Stuffing \nGarlic Mashed Potato \nRoasted Northstar Organics Vegetables \nCharred Broccoli Slaw \nDuck Demi Glace \nSour Cherry-Cranberry Sauce \nMaple Tarts
URL:https://haussausageco.com/event/thanksgiving2024/
LOCATION:Haus Sausage Co.\, 4-515 Dupplin Rd.\, Victoria\, BC\, v8z1c2\, Canada
CATEGORIES:Sunday Dinner
ORGANIZER;CN="Haus Sausage Co.":MAILTO:info@haussausageco.com
END:VEVENT
END:VCALENDAR