BEGIN:VCALENDAR
VERSION:2.0
PRODID:-//Haus Sausage Co. - ECPv6.15.20//NONSGML v1.0//EN
CALSCALE:GREGORIAN
METHOD:PUBLISH
X-WR-CALNAME:Haus Sausage Co.
X-ORIGINAL-URL:https://haussausageco.com
X-WR-CALDESC:Events for Haus Sausage Co.
REFRESH-INTERVAL;VALUE=DURATION:PT1H
X-Robots-Tag:noindex
X-PUBLISHED-TTL:PT1H
BEGIN:VTIMEZONE
TZID:America/Vancouver
BEGIN:DAYLIGHT
TZOFFSETFROM:-0800
TZOFFSETTO:-0700
TZNAME:PDT
DTSTART:20220313T100000
END:DAYLIGHT
BEGIN:STANDARD
TZOFFSETFROM:-0700
TZOFFSETTO:-0800
TZNAME:PST
DTSTART:20221106T090000
END:STANDARD
BEGIN:DAYLIGHT
TZOFFSETFROM:-0800
TZOFFSETTO:-0700
TZNAME:PDT
DTSTART:20230312T100000
END:DAYLIGHT
BEGIN:STANDARD
TZOFFSETFROM:-0700
TZOFFSETTO:-0800
TZNAME:PST
DTSTART:20231105T090000
END:STANDARD
BEGIN:DAYLIGHT
TZOFFSETFROM:-0800
TZOFFSETTO:-0700
TZNAME:PDT
DTSTART:20240310T100000
END:DAYLIGHT
BEGIN:STANDARD
TZOFFSETFROM:-0700
TZOFFSETTO:-0800
TZNAME:PST
DTSTART:20241103T090000
END:STANDARD
END:VTIMEZONE
BEGIN:VEVENT
DTSTART;TZID=America/Vancouver:20231224T110000
DTEND;TZID=America/Vancouver:20231224T140000
DTSTAMP:20260425T050406
CREATED:20231112T234920Z
LAST-MODIFIED:20231221T030846Z
UID:1430-1703415600-1703426400@haussausageco.com
SUMMARY:Large Xmas Dinner
DESCRIPTION:Greetings and salutations! We are excited to again offer a holiday meal this Christmas Season. This Dinner is aimed to feed 4 to 6 people (if you need to feed more\, feel free to add multiple dinners) with the intent to be taken home and easily cooked/reheated. Please note\, the boneless turkey roll comes raw\, it just needs to be placed in a roasting pan and baked until you reach an internal of 165F. The rest of the meal is totally finished and just needs to heated and plated. Pickup is on Sunday December 24th from 11am-2pm at our kitchen(4-515 Dupplin Rd.) All components of this meal were made and assembled by a small teams with a big passion for good food. Below you will find the menu. Thank you and we hope you enjoy! Feel free to reach out with any questions you may have. Email us at haussausageco@gmail.com or give us a call. \n  \nMaple Rosemary Turkey Roll \nPorchetta \nCranberry-Pecan Brioche Stuffing \nGarlic Mashed Potato \nRoasted Northstar Organics Vegetables \nFennel and Citrus Slaw \nCountry Gravy \nSour Cherry and Cranberry Sauce \nMustard \nDessert by GoodSide Pastry
URL:https://haussausageco.com/event/december24/
LOCATION:Haus Sausage Co.\, 4-515 Dupplin Rd.\, Victoria\, BC\, v8z1c2\, Canada
CATEGORIES:Sunday Dinner
ORGANIZER;CN="Haus Sausage Co.":MAILTO:info@haussausageco.com
END:VEVENT
END:VCALENDAR